BEGIN:VCALENDAR
METHOD:PUBLISH
VERSION:2.0
PRODID:-//Eventilla iCal Syndication//NONSGML Liana//EN
BEGIN:VEVENT
UID:goLvO@eventilla.com
DTSTAMP:20260909T064500Z
DTSTART:20260909T064500Z
DTEND:20260910T124500Z
SUMMARY:Fysioterapia & kuntoutus 2026 | Koulutuspäivät
DESCRIPTION:Kuntoutuksen ammattitapahtuma tuo yhteen alan osaajat\, ajankohtaisen tiedon ja käytännön ratkaisut\n  \nFysioterapia & kuntoutus 2026 on Helsingin Messukeskuksessa järjestettävä suurtapahtuma\, joka koostuu messuista ja koulutuspäivistä.\nTervetuloa tapaamaan kollegoja\, jakamaan tietoa\, oppimaan uutta\, innostumaan ja oivaltamaan\, sekä hakemaan työkaluja omaan työhösi!\nLisätiedot ja ohjelma:www.fysioterapiamessut.fi/koulutuspaivat\n 
LOCATION:Helsingin Messukeskus\, Messuaukio 1\, 00520\, Helsinki\, Suomi
URL:http://koulutukset.suomenfysioterapeutit.fi/koulutuspaivat
END:VEVENT
END:VCALENDAR
